
BEGIN:VCALENDAR
VERSION:2.0
PRODID:-//eventon.com NONSGML v1.0//EN
CALSCALE:GREGORIAN
METHOD:PUBLISH
BEGIN:VEVENT
UID:69e4eb3450210
DTSTAMP:20260419T144820Z
DTSTART:20150131T170000Z
DTEND:20150131T220000Z
LOCATION:St. Ann&#039;s Gymnasium 4461 Onondaga Blvd. Syracuse\,  NY
SUMMARY:Drumcliffe's Irish Dance Hooley
DESCRIPTION:Top notch dancers\,  live music\,  pipers\,  food and beer for 
 purchase\,  raffles. Admission: $10 for adults\,  kids under 18 free. Joe p
 lays at 8:00.\nhttps://joedavoli.com/events/drumcliffes-irish-dance-hooley/
URL:https://joedavoli.com/events/drumcliffes-irish-dance-hooley/
END:VEVENT
END:VCALENDAR